BEGIN:VCALENDAR
VERSION:2.0
PRODID:-//DOCKS CIRCUS - ECPv6.0.9//NONSGML v1.0//EN
CALSCALE:GREGORIAN
METHOD:PUBLISH
X-ORIGINAL-URL:https://www.dockscircus.fr
X-WR-CALDESC:évènements pour DOCKS CIRCUS
REFRESH-INTERVAL;VALUE=DURATION:PT1H
X-Robots-Tag:noindex
X-PUBLISHED-TTL:PT1H
BEGIN:VTIMEZONE
TZID:Europe/Paris
BEGIN:DAYLIGHT
TZOFFSETFROM:+0100
TZOFFSETTO:+0200
TZNAME:CEST
DTSTART:20240331T010000
END:DAYLIGHT
BEGIN:STANDARD
TZOFFSETFROM:+0200
TZOFFSETTO:+0100
TZNAME:CET
DTSTART:20241027T010000
END:STANDARD
END:VTIMEZONE
BEGIN:VEVENT
DTSTART;TZID=Europe/Paris:20240203T193000
DTEND;TZID=Europe/Paris:20240203T233000
DTSTAMP:20260423T225528
CREATED:20231009T093654Z
LAST-MODIFIED:20231009T093654Z
UID:2993-1706988600-1707003000@www.dockscircus.fr
SUMMARY:MY CRAZY WORLD : Spectacle du 3 février 2024
DESCRIPTION:Embarquez pour un dîner-spectacle hors norme et immersif où les arts et les performances s’entremêlent tout au long de votre soirée. Une explosion d’émotions et de saveurs vous attendent pour en faire un moment inoubliable. \nL’élégance\, l’audace et la passion de nos artistes : chanteuse\, danseuses\, danseurs et acrobate seront vous faire vibrer et vivre une expérience unique. \nLe but de ce show d’un genre nouveau est de dépoussiérer le concept cabaret parfois redondant grâce à des musiques modernes\, un travail des costumes et accessoires très poussé (à la limite du défilé de mode)\, des décors et une mise en scène atypique. \nPlus de 50 costumes seront vous faire rêver et voyager à travers les mondes ensorcelants de la compagnie YACK Stories. \nLa compagnie YACK Stories se produit depuis plus de 2 ans au DOCKS Circus et lance sa 3ème saison avec ce nouveau show en exclusivité. Forte de ses expériences en spectacles et évènementiels en France et à l’étranger\, elle vous a concocté un spectacle Cabaret 2.0 hors normes !
URL:https://www.dockscircus.fr/event/my-crazy-world-spectacle-du-3-fevrier-2024/
LOCATION:Docks Circus\, 45 quai Rambaud\, Lyon\, 69002\, France
CATEGORIES:Public
ATTACH;FMTTYPE=image/jpeg:https://www.dockscircus.fr/wp-content/uploads/2023/09/SHOWROOM_2.0-123.jpg
ORGANIZER;CN="DOCKS%20CIRCUS":MAILTO:contact@dockscircus.fr
END:VEVENT
BEGIN:VEVENT
DTSTART;TZID=Europe/Paris:20240210T193000
DTEND;TZID=Europe/Paris:20240210T233000
DTSTAMP:20260423T225528
CREATED:20231009T093721Z
LAST-MODIFIED:20231009T093721Z
UID:2995-1707593400-1707607800@www.dockscircus.fr
SUMMARY:MY CRAZY WORLD : Spectacle du 10 février 2024
DESCRIPTION:Embarquez pour un dîner-spectacle hors norme et immersif où les arts et les performances s’entremêlent tout au long de votre soirée. Une explosion d’émotions et de saveurs vous attendent pour en faire un moment inoubliable. \nL’élégance\, l’audace et la passion de nos artistes : chanteuse\, danseuses\, danseurs et acrobate seront vous faire vibrer et vivre une expérience unique. \nLe but de ce show d’un genre nouveau est de dépoussiérer le concept cabaret parfois redondant grâce à des musiques modernes\, un travail des costumes et accessoires très poussé (à la limite du défilé de mode)\, des décors et une mise en scène atypique. \nPlus de 50 costumes seront vous faire rêver et voyager à travers les mondes ensorcelants de la compagnie YACK Stories. \nLa compagnie YACK Stories se produit depuis plus de 2 ans au DOCKS Circus et lance sa 3ème saison avec ce nouveau show en exclusivité. Forte de ses expériences en spectacles et évènementiels en France et à l’étranger\, elle vous a concocté un spectacle Cabaret 2.0 hors normes !
URL:https://www.dockscircus.fr/event/my-crazy-world-spectacle-du-10-fevrier-2024/
LOCATION:Docks Circus\, 45 quai Rambaud\, Lyon\, 69002\, France
CATEGORIES:Public
ATTACH;FMTTYPE=image/jpeg:https://www.dockscircus.fr/wp-content/uploads/2023/09/SHOWROOM_2.0-123.jpg
ORGANIZER;CN="DOCKS%20CIRCUS":MAILTO:contact@dockscircus.fr
END:VEVENT
BEGIN:VEVENT
DTSTART;TZID=Europe/Paris:20240214T193000
DTEND;TZID=Europe/Paris:20240214T233000
DTSTAMP:20260423T225528
CREATED:20231009T093757Z
LAST-MODIFIED:20231009T093757Z
UID:2997-1707939000-1707953400@www.dockscircus.fr
SUMMARY:MY CRAZY WORLD : Spectacle de la St Valentin
DESCRIPTION:Embarquez pour un dîner-spectacle hors norme et immersif où les arts et les performances s’entremêlent tout au long de votre soirée. Une explosion d’émotions et de saveurs vous attendent pour en faire un moment inoubliable. \nL’élégance\, l’audace et la passion de nos artistes : chanteuse\, danseuses\, danseurs et acrobate seront vous faire vibrer et vivre une expérience unique. \nLe but de ce show d’un genre nouveau est de dépoussiérer le concept cabaret parfois redondant grâce à des musiques modernes\, un travail des costumes et accessoires très poussé (à la limite du défilé de mode)\, des décors et une mise en scène atypique. \nPlus de 50 costumes seront vous faire rêver et voyager à travers les mondes ensorcelants de la compagnie YACK Stories. \nLa compagnie YACK Stories se produit depuis plus de 2 ans au DOCKS Circus et lance sa 3ème saison avec ce nouveau show en exclusivité. Forte de ses expériences en spectacles et évènementiels en France et à l’étranger\, elle vous a concocté un spectacle Cabaret 2.0 hors normes !
URL:https://www.dockscircus.fr/event/my-crazy-world-spectacle-de-la-st-valentin/
LOCATION:Docks Circus\, 45 quai Rambaud\, Lyon\, 69002\, France
CATEGORIES:Public
ATTACH;FMTTYPE=image/jpeg:https://www.dockscircus.fr/wp-content/uploads/2023/09/SHOWROOM_2.0-123.jpg
ORGANIZER;CN="DOCKS%20CIRCUS":MAILTO:contact@dockscircus.fr
END:VEVENT
BEGIN:VEVENT
DTSTART;TZID=Europe/Paris:20240217T193000
DTEND;TZID=Europe/Paris:20240217T233000
DTSTAMP:20260423T225528
CREATED:20231009T093824Z
LAST-MODIFIED:20231009T093833Z
UID:2999-1708198200-1708212600@www.dockscircus.fr
SUMMARY:MY CRAZY WORLD : Spectacle du 17 février 2024
DESCRIPTION:Embarquez pour un dîner-spectacle hors norme et immersif où les arts et les performances s’entremêlent tout au long de votre soirée. Une explosion d’émotions et de saveurs vous attendent pour en faire un moment inoubliable. \nL’élégance\, l’audace et la passion de nos artistes : chanteuse\, danseuses\, danseurs et acrobate seront vous faire vibrer et vivre une expérience unique. \nLe but de ce show d’un genre nouveau est de dépoussiérer le concept cabaret parfois redondant grâce à des musiques modernes\, un travail des costumes et accessoires très poussé (à la limite du défilé de mode)\, des décors et une mise en scène atypique. \nPlus de 50 costumes seront vous faire rêver et voyager à travers les mondes ensorcelants de la compagnie YACK Stories. \nLa compagnie YACK Stories se produit depuis plus de 2 ans au DOCKS Circus et lance sa 3ème saison avec ce nouveau show en exclusivité. Forte de ses expériences en spectacles et évènementiels en France et à l’étranger\, elle vous a concocté un spectacle Cabaret 2.0 hors normes !
URL:https://www.dockscircus.fr/event/my-crazy-world-spectacle-du-17-fevrier-2024/
LOCATION:Docks Circus\, 45 quai Rambaud\, Lyon\, 69002\, France
CATEGORIES:Public
ATTACH;FMTTYPE=image/jpeg:https://www.dockscircus.fr/wp-content/uploads/2023/09/SHOWROOM_2.0-123.jpg
ORGANIZER;CN="DOCKS%20CIRCUS":MAILTO:contact@dockscircus.fr
END:VEVENT
BEGIN:VEVENT
DTSTART;TZID=Europe/Paris:20240224T193000
DTEND;TZID=Europe/Paris:20240224T233000
DTSTAMP:20260423T225528
CREATED:20231009T093932Z
LAST-MODIFIED:20231009T093932Z
UID:3001-1708803000-1708817400@www.dockscircus.fr
SUMMARY:MY CRAZY WORLD : Spectacle du 24 février 2024
DESCRIPTION:Embarquez pour un dîner-spectacle hors norme et immersif où les arts et les performances s’entremêlent tout au long de votre soirée. Une explosion d’émotions et de saveurs vous attendent pour en faire un moment inoubliable. \nL’élégance\, l’audace et la passion de nos artistes : chanteuse\, danseuses\, danseurs et acrobate seront vous faire vibrer et vivre une expérience unique. \nLe but de ce show d’un genre nouveau est de dépoussiérer le concept cabaret parfois redondant grâce à des musiques modernes\, un travail des costumes et accessoires très poussé (à la limite du défilé de mode)\, des décors et une mise en scène atypique. \nPlus de 50 costumes seront vous faire rêver et voyager à travers les mondes ensorcelants de la compagnie YACK Stories. \nLa compagnie YACK Stories se produit depuis plus de 2 ans au DOCKS Circus et lance sa 3ème saison avec ce nouveau show en exclusivité. Forte de ses expériences en spectacles et évènementiels en France et à l’étranger\, elle vous a concocté un spectacle Cabaret 2.0 hors normes !
URL:https://www.dockscircus.fr/event/my-crazy-world-spectacle-du-24-fevrier-2024/
LOCATION:Docks Circus\, 45 quai Rambaud\, Lyon\, 69002\, France
CATEGORIES:Public
ATTACH;FMTTYPE=image/jpeg:https://www.dockscircus.fr/wp-content/uploads/2023/09/SHOWROOM_2.0-123.jpg
ORGANIZER;CN="DOCKS%20CIRCUS":MAILTO:contact@dockscircus.fr
END:VEVENT
END:VCALENDAR