BEGIN:VCALENDAR
VERSION:2.0
PRODID:-//DOCKS CIRCUS - ECPv6.0.9//NONSGML v1.0//EN
CALSCALE:GREGORIAN
METHOD:PUBLISH
X-WR-CALNAME:DOCKS CIRCUS
X-ORIGINAL-URL:https://www.dockscircus.fr
X-WR-CALDESC:évènements pour DOCKS CIRCUS
REFRESH-INTERVAL;VALUE=DURATION:PT1H
X-Robots-Tag:noindex
X-PUBLISHED-TTL:PT1H
BEGIN:VTIMEZONE
TZID:Europe/Paris
BEGIN:DAYLIGHT
TZOFFSETFROM:+0100
TZOFFSETTO:+0200
TZNAME:CEST
DTSTART:20230326T010000
END:DAYLIGHT
BEGIN:STANDARD
TZOFFSETFROM:+0200
TZOFFSETTO:+0100
TZNAME:CET
DTSTART:20231029T010000
END:STANDARD
END:VTIMEZONE
BEGIN:VEVENT
DTSTART;VALUE=DATE:20230106
DTEND;VALUE=DATE:20230107
DTSTAMP:20260424T232351
CREATED:20220816T205015Z
LAST-MODIFIED:20220816T205727Z
UID:1695-1672963200-1673049599@www.dockscircus.fr
SUMMARY:SHOWROOM 2.0
DESCRIPTION:
URL:https://www.dockscircus.fr/event/showroom-2-0-28/
CATEGORIES:Public
ATTACH;FMTTYPE=image/jpeg:https://www.dockscircus.fr/wp-content/uploads/2022/08/SHOWROOM-2.0-AFFICHE-169.jpg
END:VEVENT
BEGIN:VEVENT
DTSTART;VALUE=DATE:20230107
DTEND;VALUE=DATE:20230108
DTSTAMP:20260424T232351
CREATED:20220816T205008Z
LAST-MODIFIED:20220816T205008Z
UID:1696-1673049600-1673135999@www.dockscircus.fr
SUMMARY:SHOWROOM 2.0
DESCRIPTION:
URL:https://www.dockscircus.fr/event/showroom-2-0-27/
CATEGORIES:Public
ATTACH;FMTTYPE=image/jpeg:https://www.dockscircus.fr/wp-content/uploads/2022/08/SHOWROOM-2.0-AFFICHE-169.jpg
END:VEVENT
BEGIN:VEVENT
DTSTART;VALUE=DATE:20230113
DTEND;VALUE=DATE:20230114
DTSTAMP:20260424T232351
CREATED:20220816T205036Z
LAST-MODIFIED:20220816T205731Z
UID:1692-1673568000-1673654399@www.dockscircus.fr
SUMMARY:SHOWROOM 2.0
DESCRIPTION:
URL:https://www.dockscircus.fr/event/showroom-2-0-30/
CATEGORIES:Public
ATTACH;FMTTYPE=image/jpeg:https://www.dockscircus.fr/wp-content/uploads/2022/08/SHOWROOM-2.0-AFFICHE-169.jpg
END:VEVENT
BEGIN:VEVENT
DTSTART;VALUE=DATE:20230114
DTEND;VALUE=DATE:20230115
DTSTAMP:20260424T232351
CREATED:20220816T205021Z
LAST-MODIFIED:20220816T205021Z
UID:1693-1673654400-1673740799@www.dockscircus.fr
SUMMARY:SHOWROOM 2.0
DESCRIPTION:
URL:https://www.dockscircus.fr/event/showroom-2-0-29/
CATEGORIES:Public
ATTACH;FMTTYPE=image/jpeg:https://www.dockscircus.fr/wp-content/uploads/2022/08/SHOWROOM-2.0-AFFICHE-169.jpg
END:VEVENT
BEGIN:VEVENT
DTSTART;VALUE=DATE:20230120
DTEND;VALUE=DATE:20230121
DTSTAMP:20260424T232351
CREATED:20220816T205127Z
LAST-MODIFIED:20220816T205736Z
UID:1690-1674172800-1674259199@www.dockscircus.fr
SUMMARY:SHOWROOM 2.0
DESCRIPTION:
URL:https://www.dockscircus.fr/event/showroom-2-0-32/
CATEGORIES:Public
ATTACH;FMTTYPE=image/jpeg:https://www.dockscircus.fr/wp-content/uploads/2022/08/SHOWROOM-2.0-AFFICHE-169.jpg
END:VEVENT
BEGIN:VEVENT
DTSTART;VALUE=DATE:20230121
DTEND;VALUE=DATE:20230122
DTSTAMP:20260424T232351
CREATED:20220816T205121Z
LAST-MODIFIED:20220816T205121Z
UID:1691-1674259200-1674345599@www.dockscircus.fr
SUMMARY:SHOWROOM 2.0
DESCRIPTION:
URL:https://www.dockscircus.fr/event/showroom-2-0-31/
CATEGORIES:Public
ATTACH;FMTTYPE=image/jpeg:https://www.dockscircus.fr/wp-content/uploads/2022/08/SHOWROOM-2.0-AFFICHE-169.jpg
END:VEVENT
BEGIN:VEVENT
DTSTART;VALUE=DATE:20230127
DTEND;VALUE=DATE:20230128
DTSTAMP:20260424T232351
CREATED:20220816T205140Z
LAST-MODIFIED:20220816T205140Z
UID:1688-1674777600-1674863999@www.dockscircus.fr
SUMMARY:SHOWROOM 2.0
DESCRIPTION:
URL:https://www.dockscircus.fr/event/showroom-2-0-34/
CATEGORIES:Public
ATTACH;FMTTYPE=image/jpeg:https://www.dockscircus.fr/wp-content/uploads/2022/08/SHOWROOM-2.0-AFFICHE-169.jpg
END:VEVENT
BEGIN:VEVENT
DTSTART;VALUE=DATE:20230128
DTEND;VALUE=DATE:20230129
DTSTAMP:20260424T232351
CREATED:20220816T205134Z
LAST-MODIFIED:20220816T205134Z
UID:1689-1674864000-1674950399@www.dockscircus.fr
SUMMARY:SHOWROOM 2.0
DESCRIPTION:
URL:https://www.dockscircus.fr/event/showroom-2-0-33/
CATEGORIES:Public
ATTACH;FMTTYPE=image/jpeg:https://www.dockscircus.fr/wp-content/uploads/2022/08/SHOWROOM-2.0-AFFICHE-169.jpg
END:VEVENT
END:VCALENDAR