BEGIN:VCALENDAR
VERSION:2.0
PRODID:-//DOCKS CIRCUS - ECPv6.0.9//NONSGML v1.0//EN
CALSCALE:GREGORIAN
METHOD:PUBLISH
X-ORIGINAL-URL:https://www.dockscircus.fr
X-WR-CALDESC:évènements pour DOCKS CIRCUS
REFRESH-INTERVAL;VALUE=DURATION:PT1H
X-Robots-Tag:noindex
X-PUBLISHED-TTL:PT1H
BEGIN:VTIMEZONE
TZID:Europe/Paris
BEGIN:DAYLIGHT
TZOFFSETFROM:+0100
TZOFFSETTO:+0200
TZNAME:CEST
DTSTART:20220327T010000
END:DAYLIGHT
BEGIN:STANDARD
TZOFFSETFROM:+0200
TZOFFSETTO:+0100
TZNAME:CET
DTSTART:20221030T010000
END:STANDARD
END:VTIMEZONE
BEGIN:VEVENT
DTSTART;VALUE=DATE:20221201
DTEND;VALUE=DATE:20221202
DTSTAMP:20260425T010417
CREATED:20221110T162500Z
LAST-MODIFIED:20221110T165122Z
UID:2150-1669852800-1669939199@www.dockscircus.fr
SUMMARY:DOCKS DU RIRE
DESCRIPTION:
URL:https://www.dockscircus.fr/event/docks-du-rire/
CATEGORIES:Public
ATTACH;FMTTYPE=image/jpeg:https://www.dockscircus.fr/wp-content/uploads/2022/11/DOCKS-CIRCUS-AFFICHE-169.jpg
END:VEVENT
BEGIN:VEVENT
DTSTART;VALUE=DATE:20221201
DTEND;VALUE=DATE:20221202
DTSTAMP:20260425T010417
CREATED:20230113T092156Z
LAST-MODIFIED:20230113T092231Z
UID:2629-1669852800-1669939199@www.dockscircus.fr
SUMMARY:DOCKS DU RIRE VOL.2
DESCRIPTION:
URL:https://www.dockscircus.fr/event/docks-du-rire-vol-2/
CATEGORIES:Public
ATTACH;FMTTYPE=image/jpeg:https://www.dockscircus.fr/wp-content/uploads/2022/11/DOCKS-CIRCUS-AFFICHE-169.jpg
END:VEVENT
BEGIN:VEVENT
DTSTART;VALUE=DATE:20221202
DTEND;VALUE=DATE:20221203
DTSTAMP:20260425T010417
CREATED:20220816T204635Z
LAST-MODIFIED:20220816T204635Z
UID:1704-1669939200-1670025599@www.dockscircus.fr
SUMMARY:SHOWROOM 2.0
DESCRIPTION:
URL:https://www.dockscircus.fr/event/showroom-2-0-20/
CATEGORIES:Public
ATTACH;FMTTYPE=image/jpeg:https://www.dockscircus.fr/wp-content/uploads/2022/08/SHOWROOM-2.0-AFFICHE-169.jpg
END:VEVENT
BEGIN:VEVENT
DTSTART;VALUE=DATE:20221203
DTEND;VALUE=DATE:20221204
DTSTAMP:20260425T010417
CREATED:20220816T204155Z
LAST-MODIFIED:20220816T204740Z
UID:1710-1670025600-1670111999@www.dockscircus.fr
SUMMARY:SHOWROOM 2.0
DESCRIPTION:
URL:https://www.dockscircus.fr/event/showroom-2-0-13/
CATEGORIES:Public
ATTACH;FMTTYPE=image/jpeg:https://www.dockscircus.fr/wp-content/uploads/2022/08/SHOWROOM-2.0-AFFICHE-169.jpg
END:VEVENT
BEGIN:VEVENT
DTSTART;VALUE=DATE:20221209
DTEND;VALUE=DATE:20221210
DTSTAMP:20260425T010417
CREATED:20220816T204223Z
LAST-MODIFIED:20220816T204803Z
UID:1709-1670544000-1670630399@www.dockscircus.fr
SUMMARY:SHOWROOM 2.0
DESCRIPTION:
URL:https://www.dockscircus.fr/event/showroom-2-0-14/
CATEGORIES:Public
ATTACH;FMTTYPE=image/jpeg:https://www.dockscircus.fr/wp-content/uploads/2022/08/SHOWROOM-2.0-AFFICHE-169.jpg
END:VEVENT
BEGIN:VEVENT
DTSTART;VALUE=DATE:20221210
DTEND;VALUE=DATE:20221211
DTSTAMP:20260425T010417
CREATED:20220816T204924Z
LAST-MODIFIED:20220816T204924Z
UID:1700-1670630400-1670716799@www.dockscircus.fr
SUMMARY:SHOWROOM 2.0
DESCRIPTION:
URL:https://www.dockscircus.fr/event/showroom-2-0-23/
CATEGORIES:Public
ATTACH;FMTTYPE=image/jpeg:https://www.dockscircus.fr/wp-content/uploads/2022/08/SHOWROOM-2.0-AFFICHE-169.jpg
END:VEVENT
BEGIN:VEVENT
DTSTART;VALUE=DATE:20221216
DTEND;VALUE=DATE:20221217
DTSTAMP:20260425T010417
CREATED:20220816T204931Z
LAST-MODIFIED:20220816T204931Z
UID:1699-1671148800-1671235199@www.dockscircus.fr
SUMMARY:SHOWROOM 2.0
DESCRIPTION:
URL:https://www.dockscircus.fr/event/showroom-2-0-24/
CATEGORIES:Public
ATTACH;FMTTYPE=image/jpeg:https://www.dockscircus.fr/wp-content/uploads/2022/08/SHOWROOM-2.0-AFFICHE-169.jpg
END:VEVENT
BEGIN:VEVENT
DTSTART;VALUE=DATE:20221217
DTEND;VALUE=DATE:20221218
DTSTAMP:20260425T010417
CREATED:20220816T204936Z
LAST-MODIFIED:20220816T204936Z
UID:1698-1671235200-1671321599@www.dockscircus.fr
SUMMARY:SHOWROOM 2.0
DESCRIPTION:
URL:https://www.dockscircus.fr/event/showroom-2-0-25/
CATEGORIES:Public
ATTACH;FMTTYPE=image/jpeg:https://www.dockscircus.fr/wp-content/uploads/2022/08/SHOWROOM-2.0-AFFICHE-169.jpg
END:VEVENT
BEGIN:VEVENT
DTSTART;VALUE=DATE:20221231
DTEND;VALUE=DATE:20230101
DTSTAMP:20260425T010417
CREATED:20220816T211915Z
LAST-MODIFIED:20221207T191019Z
UID:1790-1672444800-1672531199@www.dockscircus.fr
SUMMARY:REVEILLON 2023
DESCRIPTION:
URL:https://www.dockscircus.fr/event/showroom-2-0-version-jour-de-lan/
CATEGORIES:Public
ATTACH;FMTTYPE=image/jpeg:https://www.dockscircus.fr/wp-content/uploads/2022/12/DOCKS-CIRCUS-AFFICHE-169-1.jpg
END:VEVENT
END:VCALENDAR