BEGIN:VCALENDAR
VERSION:2.0
PRODID:-//DOCKS CIRCUS - ECPv6.0.9//NONSGML v1.0//EN
CALSCALE:GREGORIAN
METHOD:PUBLISH
X-WR-CALNAME:DOCKS CIRCUS
X-ORIGINAL-URL:https://www.dockscircus.fr
X-WR-CALDESC:évènements pour DOCKS CIRCUS
REFRESH-INTERVAL;VALUE=DURATION:PT1H
X-Robots-Tag:noindex
X-PUBLISHED-TTL:PT1H
BEGIN:VTIMEZONE
TZID:Europe/Paris
BEGIN:DAYLIGHT
TZOFFSETFROM:+0100
TZOFFSETTO:+0200
TZNAME:CEST
DTSTART:20220327T010000
END:DAYLIGHT
BEGIN:STANDARD
TZOFFSETFROM:+0200
TZOFFSETTO:+0100
TZNAME:CET
DTSTART:20221030T010000
END:STANDARD
END:VTIMEZONE
BEGIN:VEVENT
DTSTART;VALUE=DATE:20221104
DTEND;VALUE=DATE:20221105
DTSTAMP:20260425T023623
CREATED:20220816T204140Z
LAST-MODIFIED:20220816T204140Z
UID:1711-1667520000-1667606399@www.dockscircus.fr
SUMMARY:SHOWROOM 2.0
DESCRIPTION:
URL:https://www.dockscircus.fr/event/showroom-2-0-12/
CATEGORIES:Public
ATTACH;FMTTYPE=image/jpeg:https://www.dockscircus.fr/wp-content/uploads/2022/08/SHOWROOM-2.0-AFFICHE-169.jpg
END:VEVENT
BEGIN:VEVENT
DTSTART;VALUE=DATE:20221105
DTEND;VALUE=DATE:20221106
DTSTAMP:20260425T023623
CREATED:20220816T204645Z
LAST-MODIFIED:20220816T204645Z
UID:1703-1667606400-1667692799@www.dockscircus.fr
SUMMARY:SHOWROOM 2.0
DESCRIPTION:
URL:https://www.dockscircus.fr/event/showroom-2-0-21/
CATEGORIES:Public
ATTACH;FMTTYPE=image/jpeg:https://www.dockscircus.fr/wp-content/uploads/2022/08/SHOWROOM-2.0-AFFICHE-169.jpg
END:VEVENT
BEGIN:VEVENT
DTSTART;VALUE=DATE:20221111
DTEND;VALUE=DATE:20221112
DTSTAMP:20260425T023623
CREATED:20220816T204651Z
LAST-MODIFIED:20220816T204651Z
UID:1702-1668124800-1668211199@www.dockscircus.fr
SUMMARY:SHOWROOM 2.0
DESCRIPTION:
URL:https://www.dockscircus.fr/event/showroom-2-0-22/
CATEGORIES:Public
ATTACH;FMTTYPE=image/jpeg:https://www.dockscircus.fr/wp-content/uploads/2022/08/SHOWROOM-2.0-AFFICHE-169.jpg
END:VEVENT
BEGIN:VEVENT
DTSTART;VALUE=DATE:20221112
DTEND;VALUE=DATE:20221113
DTSTAMP:20260425T023623
CREATED:20220816T204242Z
LAST-MODIFIED:20220816T204242Z
UID:1708-1668211200-1668297599@www.dockscircus.fr
SUMMARY:SHOWROOM 2.0
DESCRIPTION:
URL:https://www.dockscircus.fr/event/showroom-2-0-15/
CATEGORIES:Public
ATTACH;FMTTYPE=image/jpeg:https://www.dockscircus.fr/wp-content/uploads/2022/08/SHOWROOM-2.0-AFFICHE-169.jpg
END:VEVENT
BEGIN:VEVENT
DTSTART;VALUE=DATE:20221118
DTEND;VALUE=DATE:20221119
DTSTAMP:20260425T023623
CREATED:20220816T204303Z
LAST-MODIFIED:20220816T204303Z
UID:1707-1668729600-1668815999@www.dockscircus.fr
SUMMARY:SHOWROOM 2.0
DESCRIPTION:
URL:https://www.dockscircus.fr/event/showroom-2-0-16/
CATEGORIES:Public
ATTACH;FMTTYPE=image/jpeg:https://www.dockscircus.fr/wp-content/uploads/2022/08/SHOWROOM-2.0-AFFICHE-169.jpg
END:VEVENT
BEGIN:VEVENT
DTSTART;VALUE=DATE:20221119
DTEND;VALUE=DATE:20221120
DTSTAMP:20260425T023623
CREATED:20220816T204326Z
LAST-MODIFIED:20220816T204326Z
UID:1706-1668816000-1668902399@www.dockscircus.fr
SUMMARY:SHOWROOM 2.0
DESCRIPTION:
URL:https://www.dockscircus.fr/event/showroom-2-0-17/
CATEGORIES:Public
ATTACH;FMTTYPE=image/jpeg:https://www.dockscircus.fr/wp-content/uploads/2022/08/SHOWROOM-2.0-AFFICHE-169.jpg
END:VEVENT
BEGIN:VEVENT
DTSTART;VALUE=DATE:20221125
DTEND;VALUE=DATE:20221126
DTSTAMP:20260425T023623
CREATED:20220816T204622Z
LAST-MODIFIED:20220816T204622Z
UID:1701-1669334400-1669420799@www.dockscircus.fr
SUMMARY:SHOWROOM 2.0
DESCRIPTION:
URL:https://www.dockscircus.fr/event/showroom-2-0-18/
CATEGORIES:Public
ATTACH;FMTTYPE=image/jpeg:https://www.dockscircus.fr/wp-content/uploads/2022/08/SHOWROOM-2.0-AFFICHE-169.jpg
END:VEVENT
BEGIN:VEVENT
DTSTART;VALUE=DATE:20221126
DTEND;VALUE=DATE:20221127
DTSTAMP:20260425T023623
CREATED:20220816T204627Z
LAST-MODIFIED:20220816T204627Z
UID:1705-1669420800-1669507199@www.dockscircus.fr
SUMMARY:SHOWROOM 2.0
DESCRIPTION:
URL:https://www.dockscircus.fr/event/showroom-2-0-19/
CATEGORIES:Public
ATTACH;FMTTYPE=image/jpeg:https://www.dockscircus.fr/wp-content/uploads/2022/08/SHOWROOM-2.0-AFFICHE-169.jpg
END:VEVENT
END:VCALENDAR